BEGIN:VCALENDAR
VERSION:2.0
PRODID:-//ChamberMaster//Event Calendar 2.0//EN
METHOD:PUBLISH
X-PUBLISHED-TTL:P3D
REFRESH-INTERVAL:P3D
CALSCALE:GREGORIAN
BEGIN:VEVENT
DTSTART:20160527T210000Z
DTEND:20160527T230000Z
X-MICROSOFT-CDO-ALLDAYEVENT:FALSE
SUMMARY:Happy Hour Music at Cabin Coffee
DESCRIPTION:Kick off Memorial Day weekend with some happy hour music at Cabin Coffee.  "Rewind" will be playing classic tunes for us from the 60's - 80's.  If you are coming to town for the Concert at the Courthouse\, arrive a little early and enjoy Rewind with us.
X-ALT-DESC;FMTTYPE=text/html:Kick off Memorial Day weekend with some happy hour music at Cabin Coffee.&nbsp\; &quot\;Rewind&quot\; will be playing classic tunes for us from the 60&#39\;s - 80&#39\;s.&nbsp\; If you are coming to town for the Concert at the Courthouse\, arrive a little early and enjoy Rewind with us.
LOCATION:Cabin Coffee 44A Town Square Blairsville
UID:e.256.51221
SEQUENCE:3
DTSTAMP:20260421T002516Z
URL:https://members.visitblairsvillega.com/events/details/happy-hour-music-at-cabin-coffee-05-27-2016-51221
END:VEVENT

END:VCALENDAR
