BEGIN:VCALENDAR
VERSION:2.0
PRODID:-//ChamberMaster//Event Calendar 2.0//EN
METHOD:PUBLISH
X-PUBLISHED-TTL:P3D
REFRESH-INTERVAL:P3D
CALSCALE:GREGORIAN
BEGIN:VEVENT
DTSTART:20171021T150000Z
DTEND:20171021T220000Z
X-MICROSOFT-CDO-ALLDAYEVENT:FALSE
SUMMARY:Harvest Festival
DESCRIPTION:Annual Harvest Festival at Crane Creek Vineyards Join us to celebrate the end of the harvest season! Grape stomping\, live music\, food\, wine tastings\, hay rides\, winery tours. Fun for the whole family!
X-ALT-DESC;FMTTYPE=text/html:Annual Harvest Festival at Crane Creek Vineyards Join us to celebrate the end of the harvest season! Grape stomping\, live music\, food\, wine tastings\, hay rides\, winery tours. Fun for the whole family!
LOCATION:Crane Creek Vineyards 916 Crane Creek Road Young Harris\, GA 30582
UID:e.256.62224
SEQUENCE:3
DTSTAMP:20260419T175431Z
URL:https://members.visitblairsvillega.com/events/details/harvest-festival-62224
END:VEVENT

END:VCALENDAR
