BEGIN:VCALENDAR
VERSION:2.0
PRODID:-//ChamberMaster//Event Calendar 2.0//EN
METHOD:PUBLISH
X-PUBLISHED-TTL:P3D
REFRESH-INTERVAL:P3D
CALSCALE:GREGORIAN
BEGIN:VEVENT
DTSTART:20151024T150000Z
DTEND:20151024T220000Z
X-MICROSOFT-CDO-ALLDAYEVENT:FALSE
SUMMARY:Harvest Festival @ Crane Creek Vineyards
DESCRIPTION:Join us for our annual Harvest Festival at Crane Creek Vineyards as we celebrate the completion of the year's harvest. There will be hayrides\, grape stomping\, tours of the winery\, a kiddie tent and fun for the whole family! Tickets will be sold at the door: adults $20\, ages 13-20 $10\, children under 12 free. Ticket price includes wine tasting\, souvenir wine glass\, lunch and admission to all of the activities.
X-ALT-DESC;FMTTYPE=text/html:Join us for our annual Harvest Festival at Crane Creek Vineyards as we celebrate the completion of the year&#39\;s harvest. There will be hayrides\, grape stomping\, tours of the winery\, a kiddie tent and fun for the whole family! Tickets will be sold at the door: adults $20\, ages 13-20 $10\, children under 12 free. Ticket price includes wine tasting\, souvenir wine glass\, lunch and admission to all of the activities.
LOCATION:Crane Creek Vineyards 916 Crane Creek Road Young Harris\, GA 30582
UID:e.256.40376
SEQUENCE:3
DTSTAMP:20260423T104004Z
URL:https://members.visitblairsvillega.com/events/details/harvest-festival-crane-creek-vineyards-10-24-2015-40376
END:VEVENT

END:VCALENDAR
