BEGIN:VCALENDAR
VERSION:2.0
PRODID:-//ChamberMaster//Event Calendar 2.0//EN
METHOD:PUBLISH
X-PUBLISHED-TTL:P3D
REFRESH-INTERVAL:P3D
CALSCALE:GREGORIAN
BEGIN:VEVENT
DTSTART:20171029T000000Z
DTEND:20171029T030000Z
X-MICROSOFT-CDO-ALLDAYEVENT:FALSE
SUMMARY:Haunted Hayride
DESCRIPTION:Come out and enjoy Joshua Dream Ranch's Spook-Tacular Haunted Hayrides.  Have a spooky fun time and enjoy some gooey s'mores.
X-ALT-DESC;FMTTYPE=text/html:Come out and enjoy Joshua Dream Ranch&#39\;s Spook-Tacular&nbsp\;Haunted Hayrides. &nbsp\;Have a spooky fun time and enjoy some gooey s&#39\;mores.
LOCATION:Hwy 76/515 towards Young Harris\, just past the VA Clinic on the left.
UID:e.256.76125
SEQUENCE:3
DTSTAMP:20260419T155720Z
URL:https://members.visitblairsvillega.com/events/details/haunted-hayride-10-28-2017-76125
END:VEVENT

END:VCALENDAR
