BEGIN:VCALENDAR
VERSION:2.0
PRODID:-//ChamberMaster//Event Calendar 2.0//EN
METHOD:PUBLISH
X-PUBLISHED-TTL:P3D
REFRESH-INTERVAL:P3D
CALSCALE:GREGORIAN
BEGIN:VEVENT
DTSTART:20140930T220000Z
DTEND:20141001T010000Z
X-MICROSOFT-CDO-ALLDAYEVENT:FALSE
SUMMARY:HBO Documentary for S.A.F.E.
DESCRIPTION:S.A.F.E. will be presenting an HBO Documentary of "Private Violence". The advocate\, Kit Gruelle\, in the documentary will be on hand to answer questions and talk about the film\, and answer that question\, "Why does she stay?" This is a fund-raiser\, and donation only to S.A.F.E. **Please\, due to the seriousness of content of domestic violence\, we ask that ages 16 & above attend.
X-ALT-DESC;FMTTYPE=text/html:S.A.F.E. will be presenting an HBO Documentary of &quot\;Private Violence&quot\;. The advocate\, Kit Gruelle\, in the documentary will be on hand to answer questions and talk about the film\, and answer that question\, &quot\;Why does she stay?&quot\; This is a fund-raiser\, and donation only to S.A.F.E. **Please\, due to the seriousness of content of domestic violence\, we ask that ages 16 &amp\; above attend.
LOCATION:Civic Center auditorium/Blairsville
UID:e.256.25412
SEQUENCE:3
DTSTAMP:20260424T062043Z
URL:https://members.visitblairsvillega.com/events/details/hbo-documentary-for-s-a-f-e-09-30-2014-25412
END:VEVENT

END:VCALENDAR
