BEGIN:VCALENDAR
VERSION:2.0
PRODID:-//ChamberMaster//Event Calendar 2.0//EN
METHOD:PUBLISH
X-PUBLISHED-TTL:P3D
REFRESH-INTERVAL:P3D
CALSCALE:GREGORIAN
BEGIN:VEVENT
DTSTART:20140206T230000Z
DTEND:20140207T003000Z
X-MICROSOFT-CDO-ALLDAYEVENT:FALSE
SUMMARY:Health Evening - Reduce Stress & Feel Great
DESCRIPTION:Learn 3 Simple Ways to Reduce Stress so you can start feeling GREAT!
X-ALT-DESC;FMTTYPE=text/html:Learn 3 Simple Ways to Reduce Stress so you can start feeling GREAT!
LOCATION:United Community Bank's Community Room
UID:e.256.22883
SEQUENCE:3
DTSTAMP:20260424T165203Z
URL:https://members.visitblairsvillega.com/events/details/health-evening-reduce-stress-feel-great-02-06-2014-22883
END:VEVENT

END:VCALENDAR
