BEGIN:VCALENDAR
VERSION:2.0
PRODID:-//ChamberMaster//Event Calendar 2.0//EN
METHOD:PUBLISH
X-PUBLISHED-TTL:P3D
REFRESH-INTERVAL:P3D
CALSCALE:GREGORIAN
BEGIN:VEVENT
DTSTART:20150324T230000Z
DTEND:20150325T000000Z
X-MICROSOFT-CDO-ALLDAYEVENT:FALSE
SUMMARY:Healthy Eating
DESCRIPTION:Ron Westfall\, PT will be presenting a healthy eating class this coming Tuesday evening (March 24) at 7 p.m. in the second floor classroom at Union General Hospital. If you want to live longer and add life to your years it would benefit you to spend an hour learning the healthiest way to eat. Invite you family and friends as well!
X-ALT-DESC;FMTTYPE=text/html:Ron Westfall\, PT will be presenting a healthy eating class this coming Tuesday evening (March 24) at 7 p.m. in the second floor classroom at Union General Hospital. If you want to live longer and add life to your years it would benefit you to spend an hour learning the healthiest way to eat. Invite you family and friends as well!
LOCATION:Union General Hospital 2nd Floor Classroom
UID:e.256.37740
SEQUENCE:3
DTSTAMP:20260423T223919Z
URL:https://members.visitblairsvillega.com/events/details/healthy-eating-03-24-2015-37740
END:VEVENT

END:VCALENDAR
