BEGIN:VCALENDAR
VERSION:2.0
PRODID:-//ChamberMaster//Event Calendar 2.0//EN
METHOD:PUBLISH
X-PUBLISHED-TTL:P3D
REFRESH-INTERVAL:P3D
CALSCALE:GREGORIAN
BEGIN:VEVENT
DTSTART:20150305T223000Z
DTEND:20150305T233000Z
X-MICROSOFT-CDO-ALLDAYEVENT:FALSE
SUMMARY:Healthy Food Habits
DESCRIPTION:How to create healthy food habits and keep them for life!
X-ALT-DESC;FMTTYPE=text/html:How to create healthy food habits and keep them for life!
LOCATION:Union General Hospital\, 2nd Floor Classroom
UID:e.256.37458
SEQUENCE:3
DTSTAMP:20260423T212216Z
URL:https://members.visitblairsvillega.com/events/details/healthy-food-habits-03-05-2015-37458
END:VEVENT

END:VCALENDAR
