BEGIN:VCALENDAR
VERSION:2.0
PRODID:-//ChamberMaster//Event Calendar 2.0//EN
METHOD:PUBLISH
X-PUBLISHED-TTL:P3D
REFRESH-INTERVAL:P3D
CALSCALE:GREGORIAN
BEGIN:VEVENT
DTSTART:20150314T160000Z
DTEND:20150314T180000Z
X-MICROSOFT-CDO-ALLDAYEVENT:FALSE
SUMMARY:Heartlite Hospice Care Volunteer Recruiting Event
DESCRIPTION:Heartlite Hospice Care will host a volunteer luncheon and recruiting event. Information about hospice volunteer work\, as well as sign-up opportunity will be available. Event is open to anyone in community who is interested!
X-ALT-DESC;FMTTYPE=text/html:Heartlite Hospice Care will host a volunteer luncheon and recruiting event. Information about hospice volunteer work\, as well as sign-up opportunity will be available. Event is open to anyone in community who is interested!
LOCATION:Heartlite Hospice Care 163 Dalton Street Ellijay\, Georgia 30540
UID:e.256.37646
SEQUENCE:3
DTSTAMP:20260423T212303Z
URL:https://members.visitblairsvillega.com/events/details/heartlite-hospice-care-volunteer-recruiting-event-03-14-2015-37646
END:VEVENT

END:VCALENDAR
