BEGIN:VCALENDAR
VERSION:2.0
PRODID:-//ChamberMaster//Event Calendar 2.0//EN
METHOD:PUBLISH
X-PUBLISHED-TTL:P3D
REFRESH-INTERVAL:P3D
CALSCALE:GREGORIAN
BEGIN:VEVENT
DTSTART:20150327T230000Z
DTEND:20150328T010000Z
X-MICROSOFT-CDO-ALLDAYEVENT:FALSE
SUMMARY:Heidi Holton at John C. Campbell Folk School
DESCRIPTION:Heidi Holton - a unique take on your favorite blues standards
X-ALT-DESC;FMTTYPE=text/html:<div>Heidi Holton - a unique take on your favorite blues standards</div>\n
LOCATION:Community Room at John C. Campbell Folk School Brasstown\, NC 28902
UID:e.256.37724
SEQUENCE:3
DTSTAMP:20260423T230214Z
URL:https://members.visitblairsvillega.com/events/details/heidi-holton-at-john-c-campbell-folk-school-03-27-2015-37724
END:VEVENT

END:VCALENDAR
