BEGIN:VCALENDAR
VERSION:2.0
PRODID:-//ChamberMaster//Event Calendar 2.0//EN
METHOD:PUBLISH
X-PUBLISHED-TTL:P3D
REFRESH-INTERVAL:P3D
CALSCALE:GREGORIAN
BEGIN:VEVENT
DTSTART:20170412T130000Z
DTEND:20170412T190000Z
X-MICROSOFT-CDO-ALLDAYEVENT:FALSE
SUMMARY:Here Come the Natives 32nd Landscape Seminar
DESCRIPTION:Blairsville Garden Club in cooperation with Georgia Mountain Research Education Center Union County Cooperative Extension Service presents an in depth study of native plants and their role in the environment Speakers: Heather Alley\, Conservation Horticulturalist\, Ga. Plant Conservation Alliance Ray Dorsey\, Agronomist Manager\, Ga. Dept of Transportation Henning Von Schmeling\, Senior Director of Operations\, Chattahoochee Nature Center\, Roswell\, GA Brad Davis\, Associate Professor/BLA Program Coordinator\, UGA\, College of of Environmental and Design Coordinator: Chris DeGrace\, Office of Maintenance\, GDOT EXHIBITORS DOOR PRIZES
X-ALT-DESC;FMTTYPE=text/html:Blairsville Garden Club in cooperation with Georgia Mountain Research Education Center Union County Cooperative Extension Service presents an in depth study of native plants and their role in the environment Speakers: Heather Alley\, Conservation Horticulturalist\, Ga. Plant Conservation Alliance Ray Dorsey\, Agronomist Manager\, Ga. Dept of Transportation Henning Von Schmeling\, Senior Director of Operations\, Chattahoochee Nature Center\, Roswell\, GA Brad Davis\, Associate Professor/BLA Program Coordinator\, UGA\, College of of Environmental and Design Coordinator: Chris DeGrace\, Office of Maintenance\, GDOT EXHIBITORS DOOR PRIZES
LOCATION:Haralson Memorial Civic Center
UID:e.256.71410
SEQUENCE:3
DTSTAMP:20260420T024040Z
URL:https://members.visitblairsvillega.com/events/details/here-come-the-natives-32nd-landscape-seminar-71410
END:VEVENT

END:VCALENDAR
