BEGIN:VCALENDAR
VERSION:2.0
PRODID:-//ChamberMaster//Event Calendar 2.0//EN
METHOD:PUBLISH
X-PUBLISHED-TTL:P3D
REFRESH-INTERVAL:P3D
CALSCALE:GREGORIAN
BEGIN:VEVENT
DTSTART:20151127T150000Z
DTEND:20151127T223000Z
X-MICROSOFT-CDO-ALLDAYEVENT:FALSE
SUMMARY:Hi Country Shops - Black Friday Sale
DESCRIPTION:Hi Country Shops\n\nJoin us for our Black Friday Sale\n\n \n\nAnju Earrings & Rings - Buy 1 get 1 half price\n\nFarm House Fresh - Buy 1 get 1 half price\n\nTimer Taper Candles - Buy 1 get 1 half price
X-ALT-DESC;FMTTYPE=text/html:<h2 style="text-align: center\;"><span style="font-family: times new roman\;">Hi Country Shops</span></h2>\n\n<h2 style="text-align: center\;"><span style="font-family: times new roman\;">Join us for our Black Friday Sale</span></h2>\n\n<div>&nbsp\;</div>\n\n<div style="text-align: center\;"><span style="font-family: times new roman\;">Anju Earrings &amp\; Rings - Buy 1 get 1 half price</span></div>\n\n<div style="text-align: center\;"><span style="font-family: times new roman\;">Farm House Fresh - Buy 1 get 1 half price</span></div>\n\n<div style="text-align: center\;"><span style="font-family: times new roman\;">Timer Taper Candles - Buy 1 get 1 half price</span></div>\n
LOCATION:Hi Country Shops
UID:e.256.44422
SEQUENCE:3
DTSTAMP:20260423T084328Z
URL:https://members.visitblairsvillega.com/events/details/hi-country-shops-black-friday-sale-11-27-2015-44422
END:VEVENT

END:VCALENDAR
