BEGIN:VCALENDAR
VERSION:2.0
PRODID:-//ChamberMaster//Event Calendar 2.0//EN
METHOD:PUBLISH
X-PUBLISHED-TTL:P3D
REFRESH-INTERVAL:P3D
CALSCALE:GREGORIAN
BEGIN:VEVENT
DTSTART:20170513T223000Z
DTEND:20170514T020000Z
X-MICROSOFT-CDO-ALLDAYEVENT:FALSE
SUMMARY:High Heels and Hard Hats Gala - Habitat for Humanity
DESCRIPTION:Please plan on joining us for the Towns-Union Habitat for Humanity's annual Gala this year.   There will be lots of entertainment along with an awesome dinner.  The North Georgia Technical College's Culinary Arts Program will be preparing and serving the meal.  Photography sessions will be available\; there will be formal and silent auctions\; a cash bar\; music\; dancing\; and lots more to enjoy.
X-ALT-DESC;FMTTYPE=text/html:Please plan on joining us for the Towns-Union Habitat for Humanity&rsquo\;s annual Gala this year.&nbsp\;&nbsp\; There will be lots of entertainment along with an awesome dinner.&nbsp\; The North Georgia Technical College&rsquo\;s Culinary Arts Program will be preparing and serving the meal.&nbsp\; Photography sessions will be available\; there will be formal and silent auctions\; a cash bar\; music\; dancing\; and lots more to enjoy.<br />\n&nbsp\;
LOCATION:The North Georgia Technical College 121 Meeks Avenue Blairsville GA 30512
UID:e.256.67483
SEQUENCE:3
DTSTAMP:20260420T010436Z
URL:https://members.visitblairsvillega.com/events/details/high-heels-and-hard-hats-gala-habitat-for-humanity-67483
END:VEVENT

END:VCALENDAR
