BEGIN:VCALENDAR
VERSION:2.0
PRODID:-//ChamberMaster//Event Calendar 2.0//EN
METHOD:PUBLISH
X-PUBLISHED-TTL:P3D
REFRESH-INTERVAL:P3D
CALSCALE:GREGORIAN
BEGIN:VEVENT
DTSTART:20150904T233000Z
DTEND:20150905T021500Z
X-MICROSOFT-CDO-ALLDAYEVENT:FALSE
SUMMARY:High School Football
DESCRIPTION:Home game with Lumpkin County
X-ALT-DESC;FMTTYPE=text/html:Home game with Lumpkin County
LOCATION:Mike Colwell Memorial Stadium
UID:e.256.43955
SEQUENCE:3
DTSTAMP:20260423T134035Z
URL:https://members.visitblairsvillega.com/events/details/high-school-football-09-04-2015-43955
END:VEVENT

END:VCALENDAR
