BEGIN:VCALENDAR
VERSION:2.0
PRODID:-//ChamberMaster//Event Calendar 2.0//EN
METHOD:PUBLISH
X-PUBLISHED-TTL:P3D
REFRESH-INTERVAL:P3D
CALSCALE:GREGORIAN
BEGIN:VEVENT
DTSTART:20150911T233000Z
DTEND:20150912T021500Z
X-MICROSOFT-CDO-ALLDAYEVENT:FALSE
SUMMARY:High School Football
DESCRIPTION:Away game with Andrews NC
X-ALT-DESC;FMTTYPE=text/html:Away game with Andrews NC
LOCATION:Andrews NC
UID:e.256.43956
SEQUENCE:3
DTSTAMP:20260423T121853Z
URL:https://members.visitblairsvillega.com/events/details/high-school-football-09-11-2015-43956
END:VEVENT

END:VCALENDAR
