BEGIN:VCALENDAR
VERSION:2.0
PRODID:-//ChamberMaster//Event Calendar 2.0//EN
METHOD:PUBLISH
X-PUBLISHED-TTL:P3D
REFRESH-INTERVAL:P3D
CALSCALE:GREGORIAN
BEGIN:VEVENT
DTSTART:20151002T233000Z
DTEND:20151003T021500Z
X-MICROSOFT-CDO-ALLDAYEVENT:FALSE
SUMMARY:High School Football
DESCRIPTION:Home game with Oglethorpe County  (Pink Out)
X-ALT-DESC;FMTTYPE=text/html:Home game with&nbsp\;Oglethorpe County&nbsp\; (Pink Out)
LOCATION:Mike Colwell Memorial Stadium
UID:e.256.43959
SEQUENCE:3
DTSTAMP:20260423T102851Z
URL:https://members.visitblairsvillega.com/events/details/high-school-football-10-02-2015-43959
END:VEVENT

END:VCALENDAR
