BEGIN:VCALENDAR
VERSION:2.0
PRODID:-//ChamberMaster//Event Calendar 2.0//EN
METHOD:PUBLISH
X-PUBLISHED-TTL:P3D
REFRESH-INTERVAL:P3D
CALSCALE:GREGORIAN
BEGIN:VEVENT
DTSTART:20151009T233000Z
DTEND:20151010T021500Z
X-MICROSOFT-CDO-ALLDAYEVENT:FALSE
SUMMARY:High School Football
DESCRIPTION:Home game with Greene County  (Homecoming)
X-ALT-DESC;FMTTYPE=text/html:Home game with&nbsp\;Greene County&nbsp\; (Homecoming)
LOCATION:Mike Colwell Memorial Stadium
UID:e.256.43960
SEQUENCE:3
DTSTAMP:20260423T103609Z
URL:https://members.visitblairsvillega.com/events/details/high-school-football-10-09-2015-43960
END:VEVENT

END:VCALENDAR
