BEGIN:VCALENDAR
VERSION:2.0
PRODID:-//ChamberMaster//Event Calendar 2.0//EN
METHOD:PUBLISH
X-PUBLISHED-TTL:P3D
REFRESH-INTERVAL:P3D
CALSCALE:GREGORIAN
BEGIN:VEVENT
DTSTART:20151016T233000Z
DTEND:20151017T021500Z
X-MICROSOFT-CDO-ALLDAYEVENT:FALSE
SUMMARY:High School Football
DESCRIPTION:Away game with Rabun County
X-ALT-DESC;FMTTYPE=text/html:Away game with Rabun County
LOCATION:Rabun Circle\, Georgia
UID:e.256.43961
SEQUENCE:3
DTSTAMP:20260423T102849Z
URL:https://members.visitblairsvillega.com/events/details/high-school-football-10-16-2015-43961
END:VEVENT

END:VCALENDAR
