BEGIN:VCALENDAR
VERSION:2.0
PRODID:-//ChamberMaster//Event Calendar 2.0//EN
METHOD:PUBLISH
X-PUBLISHED-TTL:P3D
REFRESH-INTERVAL:P3D
CALSCALE:GREGORIAN
BEGIN:VEVENT
DTSTART:20151030T233000Z
DTEND:20151031T021500Z
X-MICROSOFT-CDO-ALLDAYEVENT:FALSE
SUMMARY:High School Football
DESCRIPTION:Home game with Riverside Military (Senior Night)
X-ALT-DESC;FMTTYPE=text/html:Home game with&nbsp\;Riverside Military (Senior Night)
LOCATION:Mike Colwell Memorial Stadium
UID:e.256.43962
SEQUENCE:3
DTSTAMP:20260423T103609Z
URL:https://members.visitblairsvillega.com/events/details/high-school-football-10-30-2015-43962
END:VEVENT

END:VCALENDAR
