BEGIN:VCALENDAR
VERSION:2.0
PRODID:-//ChamberMaster//Event Calendar 2.0//EN
METHOD:PUBLISH
X-PUBLISHED-TTL:P3D
REFRESH-INTERVAL:P3D
CALSCALE:GREGORIAN
BEGIN:VEVENT
DTSTART:20151107T003000Z
DTEND:20151107T031500Z
X-MICROSOFT-CDO-ALLDAYEVENT:FALSE
SUMMARY:High School Football
DESCRIPTION:Away game with Washington-Wilkes
X-ALT-DESC;FMTTYPE=text/html:Away game with Washington-Wilkes
LOCATION:Washington-Wilkes\, Georgia
UID:e.256.43963
SEQUENCE:3
DTSTAMP:20260423T085405Z
URL:https://members.visitblairsvillega.com/events/details/high-school-football-11-06-2015-43963
END:VEVENT

END:VCALENDAR
