BEGIN:VCALENDAR
VERSION:2.0
PRODID:-//ChamberMaster//Event Calendar 2.0//EN
METHOD:PUBLISH
X-PUBLISHED-TTL:P3D
REFRESH-INTERVAL:P3D
CALSCALE:GREGORIAN
BEGIN:VEVENT
DTSTART:20141011T180000Z
DTEND:20141011T210000Z
X-MICROSOFT-CDO-ALLDAYEVENT:FALSE
SUMMARY:Hightower Creek Tower Vineyards - Blind Cider
DESCRIPTION:This week we are so excited to have Blind Cider as our performers for our Vino and Vibes! This acoustic duo performs a really unique blend of musical texture that defies genre. They will be playing from 2-5pm.
X-ALT-DESC;FMTTYPE=text/html:This week we are so excited to have Blind Cider as our performers for our Vino and Vibes! This acoustic duo performs a really unique blend of musical texture that defies genre. They will be playing from 2-5pm.
LOCATION:Hightower Creek Vineyards 7150 Canaan Drive Hiawassee\, GA
UID:e.256.27650
SEQUENCE:3
DTSTAMP:20260424T045329Z
URL:https://members.visitblairsvillega.com/events/details/hightower-creek-tower-vineyards-blind-cider-10-11-2014-27650
END:VEVENT

END:VCALENDAR
