BEGIN:VCALENDAR
VERSION:2.0
PRODID:-//ChamberMaster//Event Calendar 2.0//EN
METHOD:PUBLISH
X-PUBLISHED-TTL:P3D
REFRESH-INTERVAL:P3D
CALSCALE:GREGORIAN
BEGIN:VEVENT
DTSTART:20170603T160000Z
DTEND:20170603T220000Z
X-MICROSOFT-CDO-ALLDAYEVENT:FALSE
SUMMARY:Hightower Creek Vineyards 5 Year Anniversary Party
DESCRIPTION:Live music from 2-5pm by Steve Baskin\, prizes\, giveaways\, balloons\, and cake! Happy Anniversary HCV!
X-ALT-DESC;FMTTYPE=text/html:<span style="color:rgb(112\, 112\, 112)\; font-family:open sans\; font-size:14px">Live music from 2-5pm by Steve Baskin\, prizes\, giveaways\, balloons\, and cake! Happy Anniversary HCV!</span>
LOCATION:7150 Canaan Drive Hiawassee\, GA 30546
UID:e.256.72370
SEQUENCE:3
DTSTAMP:20260419T233138Z
URL:https://members.visitblairsvillega.com/events/details/hightower-creek-vineyards-5-year-anniversary-party-72370
END:VEVENT

END:VCALENDAR
