BEGIN:VCALENDAR
VERSION:2.0
PRODID:-//ChamberMaster//Event Calendar 2.0//EN
METHOD:PUBLISH
X-PUBLISHED-TTL:P3D
REFRESH-INTERVAL:P3D
CALSCALE:GREGORIAN
BEGIN:VEVENT
DTSTART:20141205T170000Z
DTEND:20141205T220000Z
X-MICROSOFT-CDO-ALLDAYEVENT:FALSE
SUMMARY:Hightower Creek Vineyards Mountain Wine Country Holiday Weekend
DESCRIPTION:December 5-7\, 2014: Holiday Weekend in Mountain Wine Country. Purchase a Passport for $20.00 at any of the 14 participating wineries and receive a souvenir glass. Wine tastings\, food and/or entertainment will be available at each stop!  Hours are 12-6pm Friday and Saturday and 12:30-5pm on Sunday. \n\nRaven and Red will be performing from 1-4pm on Saturday. (Weather permitting) Come join us and take a break!! We will also have soup and mulled wine to warm you up!!
X-ALT-DESC;FMTTYPE=text/html:<p><u>December 5-7\, 2014:&nbsp\;</u><span style="font-family: cambria\; font-size: 14px\;">Holiday Weekend&nbsp\;</span><span style="font-family: cambria\; font-size: 14px\;">in</span><span style="font-family: cambria\; font-size: 14px\;">&nbsp\;Mountain Wine Country. Purchase a Passport for $20.00 at any of the 14 participating wineries and receive a souvenir glass. Wine tastings\, food and/or entertainment will be available at each stop! &nbsp\;Hours are 12-6pm Friday and Saturday and 12:30-5pm on Sunday.&nbsp\;</span></p>\n\n<p><span style="font-family: cambria\; font-size: 14px\;">Raven and Red</span><span style="font-family: cambria\; font-size: 14px\;">&nbsp\;will be</span><span style="font-family: cambria\; font-size: 14px\;">&nbsp\;performing from 1-4pm on Saturday</span><span style="font-family: cambria\; font-size: 14px\;">. (Weather permitting) Come join us and take a break!! We will also have soup and mulled wine to warm you up!!</span></p>\n
LOCATION:7150 Canaan Drive Hiawassee\, GA 30546
UID:e.256.28042
SEQUENCE:3
DTSTAMP:20260424T020720Z
URL:https://members.visitblairsvillega.com/events/details/hightower-creek-vineyards-mountain-wine-country-holiday-weekend-12-05-2014-28042
END:VEVENT

END:VCALENDAR
