BEGIN:VCALENDAR
VERSION:2.0
PRODID:-//ChamberMaster//Event Calendar 2.0//EN
METHOD:PUBLISH
X-PUBLISHED-TTL:P3D
REFRESH-INTERVAL:P3D
CALSCALE:GREGORIAN
BEGIN:VEVENT
DTSTART;VALUE=DATE:20141010
DTEND;VALUE=DATE:20141011
TRANSP:TRANSPARENT
X-MICROSOFT-CDO-ALLDAYEVENT:TRUE
SUMMARY:Hightower Creek Vineyards - Sip & Scribble with Whitney!
DESCRIPTION:Sip and Scribble with Whitney! Come join us for a fun night of art and wine! You will receive a framed chalkboard\, supplies\, and a glass of wine\, as well as step-by-step instructions to make your own original artwork! Cost is $25.00 and is limited to 25 people.
X-ALT-DESC;FMTTYPE=text/html:Sip and Scribble with Whitney! Come join us for a fun night of art and wine! You will receive a framed chalkboard\, supplies\, and a glass of wine\, as well as step-by-step instructions to make your own original artwork! Cost is $25.00 and is limited to 25 people.
LOCATION:Hightower Creek Vineyards 7150 Canaan Dr. Hiawassee\, GA
UID:e.256.27649
SEQUENCE:3
DTSTAMP:20260424T061511Z
URL:https://members.visitblairsvillega.com/events/details/hightower-creek-vineyards-sip-scribble-with-whitney-10-10-2014-27649
END:VEVENT

END:VCALENDAR
