BEGIN:VCALENDAR
VERSION:2.0
PRODID:-//ChamberMaster//Event Calendar 2.0//EN
METHOD:PUBLISH
X-PUBLISHED-TTL:P3D
REFRESH-INTERVAL:P3D
CALSCALE:GREGORIAN
BEGIN:VEVENT
DTSTART:20140322T160000Z
DTEND:20140322T220000Z
X-MICROSOFT-CDO-ALLDAYEVENT:FALSE
SUMMARY:Hightower Creek Vineyards/Winegrower's Assoc. of GA Wine Hwy Weekend
DESCRIPTION:It's baaaack! Yes\, it's that time again! The Winegrower's Assoc. of Georgia Wine Highway Weekend will be this weekend and next weekend! That's right! We have expanded to two weekends so you can have plenty of time to visit all the participating vineyards!\n\nHightower Creek Vineyards will have the duo "Hear Now" performing on Saturday\, the 22nd\, from 2-5pm and on Saturday\, the 29th\, we will have Paul Constantine performing from 2-5pm. Free tastings\, soup\, and a souvenir glass will also be included with the purchase of a Passport which can be purchased at any participating vineyard for $30.00\n\n\n\nFor those who choose not to purchase a Passport\, admission is $10.00 and includes soup and a glass of wine or a tasting.
X-ALT-DESC;FMTTYPE=text/html:It&#39\;s baaaack! Yes\, it&#39\;s that time again! The Winegrower&#39\;s Assoc. of Georgia Wine Highway Weekend will be this weekend <em>and </em>next weekend! That&#39\;s right! We have expanded to two weekends so you can have plenty of time to visit all the participating vineyards!<br />\nHightower Creek Vineyards will have the duo &quot\;Hear Now&quot\; performing on Saturday\, the 22nd\, from 2-5pm and on Saturday\, the 29th\, we will have Paul Constantine performing from 2-5pm. Free tastings\, soup\, and a souvenir glass&nbsp\;will also be included with the purchase of a Passport which can be purchased at any participating vineyard for $30.00<br />\n<br />\nFor those who choose not to purchase a Passport\, admission is $10.00 and includes soup and a glass of wine or a tasting.
LOCATION:7150 Canaan Drive Hiawassee\, GA 30546
UID:e.256.23247
SEQUENCE:3
DTSTAMP:20260424T153529Z
URL:https://members.visitblairsvillega.com/events/details/hightower-creek-vineyards-winegrower-s-assoc-of-ga-wine-hwy-weekend-03-22-2014-23247
END:VEVENT

END:VCALENDAR
