BEGIN:VCALENDAR
VERSION:2.0
PRODID:-//ChamberMaster//Event Calendar 2.0//EN
METHOD:PUBLISH
X-PUBLISHED-TTL:P3D
REFRESH-INTERVAL:P3D
CALSCALE:GREGORIAN
BEGIN:VEVENT
DTSTART:20140725T180000Z
DTEND:20140725T210000Z
X-MICROSOFT-CDO-ALLDAYEVENT:FALSE
SUMMARY:Hill Vue Farm Tour
DESCRIPTION:Bud and Lorraine Hill of Hill Vue Farm host a tour of their cattle farm on Friday\, July 25th from 2pm - 5pm for attendees of 4th Annual Georgia Cattlemen's Association Summer Conference being held July 25-27 in Helen\, GA at Unicoi State Park.
X-ALT-DESC;FMTTYPE=text/html:Bud and Lorraine Hill of Hill Vue Farm host a tour of their cattle farm on Friday\, July 25th from 2pm - 5pm&nbsp\;for attendees of 4th Annual Georgia Cattlemen&#39\;s Association Summer Conference being held July 25-27 in Helen\, GA at Unicoi State Park.
LOCATION:1159 Deep South Farm Rd Blairsville\, GA 30512.
UID:e.256.25411
SEQUENCE:3
DTSTAMP:20260424T091954Z
URL:https://members.visitblairsvillega.com/events/details/hill-vue-farm-tour-07-25-2014-25411
END:VEVENT

END:VCALENDAR
