BEGIN:VCALENDAR
VERSION:2.0
PRODID:-//ChamberMaster//Event Calendar 2.0//EN
METHOD:PUBLISH
X-PUBLISHED-TTL:P3D
REFRESH-INTERVAL:P3D
CALSCALE:GREGORIAN
BEGIN:VEVENT
DTSTART:20141011T120000Z
DTEND:20141011T160000Z
X-MICROSOFT-CDO-ALLDAYEVENT:FALSE
SUMMARY:Hills of Habersham Ride 2014
DESCRIPTION:The Habersham Chamber will have its 5th annual Hills of Habersham Bike Ride on Saturday\, Oct. 11.  People come from all around for this ride.  This year\, Lt. Gov. Casey Cagle will be the Grand Marshal and ride with the group.  New this year will be a Kid's Fun Ride.  It is also the day of Cornelia's Big Red Apple Festival so there's something for the entire family.
X-ALT-DESC;FMTTYPE=text/html:<span style="font-family:calibri\,sans-serif\;"><span style="font-size:11.0pt\;">The Habersham Chamber will have its 5<sup>th</sup> annual Hills of Habersham Bike Ride on Saturday\, Oct. 11.&nbsp\; People come from all around for this ride.&nbsp\; This year\, Lt. Gov. Casey Cagle will be the Grand Marshal and ride with the group.&nbsp\; New this year will be a Kid&rsquo\;s Fun Ride.&nbsp\; It is also the day of Cornelia&rsquo\;s Big Red Apple Festival so there&rsquo\;s something for the entire family. </span></span>
LOCATION:Ruby C. Fulbright Aquatic Center 120 Paul Franklin Road\, Clarkesville\, GA 30523 From Atlanta take I-85 N to I-985 N to GA-365/US-23 N and continue on to Mt. Airy/Clarkesville/Hwy 197 Exit (to the right). Turn Left onto Hwy197 and go 4 miles. At 4-way stop at intersection of Hwy 197/Hwy 17\, turn right. Aquatic Center will be one mile on right.
UID:e.256.25585
SEQUENCE:3
DTSTAMP:20260424T045625Z
URL:https://members.visitblairsvillega.com/events/details/hills-of-habersham-ride-2014-10-11-2014-25585
END:VEVENT

END:VCALENDAR
