BEGIN:VCALENDAR
VERSION:2.0
PRODID:-//ChamberMaster//Event Calendar 2.0//EN
METHOD:PUBLISH
X-PUBLISHED-TTL:P3D
REFRESH-INTERVAL:P3D
CALSCALE:GREGORIAN
BEGIN:VEVENT
DTSTART:20161013T190000Z
DTEND:20161013T213000Z
X-MICROSOFT-CDO-ALLDAYEVENT:FALSE
SUMMARY:History of the Appalachian Trail in North Georgia
DESCRIPTION:The Appalachian Trail Conservancy volunteers have been working hard on a history project highlighting the History of the Appalachian Trail in North Georgia and everyone is invited to the Grand Reveal of the project!
X-ALT-DESC;FMTTYPE=text/html:The Appalachian Trail Conservancy volunteers have been working hard on a history project highlighting the&nbsp\;<span style="font-family:calibri\,sans-serif\;"><span style="font-size:11.0pt\;">History of the Appalachian Trail in North Georgia and everyone is invited to the Grand Reveal of the project!</span></span>
LOCATION:Georgia Mountain Research & Education Center\, Cannery
UID:e.256.59293
SEQUENCE:3
DTSTAMP:20260420T145004Z
URL:https://members.visitblairsvillega.com/events/details/history-of-the-appalachian-trail-in-north-georgia-59293
END:VEVENT

END:VCALENDAR
