BEGIN:VCALENDAR
VERSION:2.0
PRODID:-//ChamberMaster//Event Calendar 2.0//EN
METHOD:PUBLISH
X-PUBLISHED-TTL:P3D
REFRESH-INTERVAL:P3D
CALSCALE:GREGORIAN
BEGIN:VEVENT
DTSTART:20171209T190000Z
DTEND:20171209T210000Z
X-MICROSOFT-CDO-ALLDAYEVENT:FALSE
SUMMARY:Holiday Bazaar
DESCRIPTION:Gather\, Celebrate\, Rejoice! It's time to be merry\, so gather your cheer for the holiday season is upon us and near! Our holiday bazaar features sights to behold. Local vendors\, a bake sale\, even an auction will unfold. So gather your friends and family and enter for all proceeds will benefit the center!
X-ALT-DESC;FMTTYPE=text/html:Gather\, Celebrate\, Rejoice! It&#39\;s time to be merry\, so gather your cheer for the holiday season is upon us and near! Our holiday bazaar features sights to behold. Local vendors\, a bake sale\, even an auction will unfold. So gather your friends and family and enter for all proceeds will benefit the center!
LOCATION:Unity of Blairsville 298 School Circle Blairsville\, GA 30512
UID:e.256.77050
SEQUENCE:3
DTSTAMP:20260419T120716Z
URL:https://members.visitblairsvillega.com/events/details/holiday-bazaar-77050
END:VEVENT

END:VCALENDAR
