BEGIN:VCALENDAR
VERSION:2.0
PRODID:-//ChamberMaster//Event Calendar 2.0//EN
METHOD:PUBLISH
X-PUBLISHED-TTL:P3D
REFRESH-INTERVAL:P3D
CALSCALE:GREGORIAN
BEGIN:VEVENT
DTSTART:20171210T140000Z
DTEND:20171210T190000Z
X-MICROSOFT-CDO-ALLDAYEVENT:FALSE
SUMMARY:Holiday Bazaar - Unity of Blairsville
DESCRIPTION:Looking for that perfect gift? Our Holiday Bazaar features the talents of local artists and vendors. A wide variety of unique gifts are available for you to select from. Our Youth Ministry will host a bake sale as well.
X-ALT-DESC;FMTTYPE=text/html:Looking for that perfect gift? Our Holiday Bazaar features the talents of local artists and vendors. A wide variety of unique gifts are available for you to select from. Our Youth Ministry will host a bake sale as well.
LOCATION:Unity of Blairsville 298 School Circle Blairsville\, GA 30512
UID:e.256.77064
SEQUENCE:3
DTSTAMP:20260419T140715Z
URL:https://members.visitblairsvillega.com/events/details/holiday-bazaar-unity-of-blairsville-77064
END:VEVENT

END:VCALENDAR
