BEGIN:VCALENDAR
VERSION:2.0
PRODID:-//ChamberMaster//Event Calendar 2.0//EN
METHOD:PUBLISH
X-PUBLISHED-TTL:P3D
REFRESH-INTERVAL:P3D
CALSCALE:GREGORIAN
BEGIN:VEVENT
DTSTART:20151220T164500Z
DTEND:20151220T220000Z
X-MICROSOFT-CDO-ALLDAYEVENT:FALSE
SUMMARY:Holiday Brunch at Frogtown Cellars with Elite Escapes
DESCRIPTION:Frogtown Cellars in Dahlonega will be having a holiday Sunday brunch with each course paired with their wine. Elite Escapes will be providing roundtrip luxury limo transportation from Blairsville with the brunch!
X-ALT-DESC;FMTTYPE=text/html:Frogtown Cellars in Dahlonega will be having a holiday Sunday brunch with each course paired with their wine. Elite Escapes will be providing roundtrip luxury limo transportation from Blairsville with the brunch!
LOCATION:Blairsville Park & Ride
UID:e.256.45162
SEQUENCE:3
DTSTAMP:20260421T074525Z
URL:https://members.visitblairsvillega.com/events/details/holiday-brunch-at-frogtown-cellars-with-elite-escapes-12-20-2015-45162
END:VEVENT

END:VCALENDAR
