BEGIN:VCALENDAR
VERSION:2.0
PRODID:-//ChamberMaster//Event Calendar 2.0//EN
METHOD:PUBLISH
X-PUBLISHED-TTL:P3D
REFRESH-INTERVAL:P3D
CALSCALE:GREGORIAN
BEGIN:VEVENT
DTSTART:20141214T013000Z
DTEND:20141214T040000Z
X-MICROSOFT-CDO-ALLDAYEVENT:FALSE
SUMMARY:Holiday Contra & Square Dance 2014 - John C Campbell Folk School
DESCRIPTION:Holiday Contra & Square Dance 2014 Time:\n\n8:30 P.M. - 11:00 P.M.\nCome celebrate the holidays with us on the dance floor!\n\nFree admission!\n\nHoliday treats potluck! Bring your favorite refreshment to share.\n\n\n\nThe calling and music will be a splendid array of local talent. Guest callers welcome (If you are interested in calling let us know in advance by emailing anniefain@folkschool.org).\n\n\n\nBeginners\, couples and singles are welcome.
X-ALT-DESC;FMTTYPE=text/html:Holiday Contra &amp\; Square Dance 2014 Time:<br />\n8:30 P.M.&nbsp\;- 11:00 P.M.\n<p class="cde_text">Come celebrate the holidays with us on the dance floor!<br />\nFree admission!<br />\nHoliday treats potluck! Bring your favorite refreshment to share.<br />\n<br />\nThe calling and music will be a splendid array of local talent. Guest callers welcome (If you are interested in calling let us know in advance by emailing anniefain@folkschool.org).<br />\n<br />\nBeginners\, couples and singles are welcome.</p>\n\n<p class="cde_url">&nbsp\;</p>\n
LOCATION:John C Campbell Folk School One Folk School Road Brasstown\, NC
UID:e.256.27289
SEQUENCE:3
DTSTAMP:20260424T033932Z
URL:https://members.visitblairsvillega.com/events/details/holiday-contra-square-dance-2014-john-c-campbell-folk-school-12-13-2014-27289
END:VEVENT

END:VCALENDAR
