BEGIN:VCALENDAR
VERSION:2.0
PRODID:-//ChamberMaster//Event Calendar 2.0//EN
METHOD:PUBLISH
X-PUBLISHED-TTL:P3D
REFRESH-INTERVAL:P3D
CALSCALE:GREGORIAN
BEGIN:VEVENT
DTSTART:20161112T150000Z
DTEND:20161112T200000Z
X-MICROSOFT-CDO-ALLDAYEVENT:FALSE
SUMMARY:Holiday Craft Show
DESCRIPTION:The Peachtree Community Club invites everyone to their Annual Holiday Craft Show on Saturday\, November 12\, (10 am-3 pm) at Peachtree Community Center\, located just off Greenlawn Cemetery Road at 125 Memory Lane\, Murphy\, NC. Local artists will greet you with hand-crafted creations including stained glass art\, unique birdhouses\, baskets\, wreaths\, rustic furniture\, fiber arts\, natural soap & candles\, wood accessories & carvings\, jewelry\, Christmas ornaments and stockings and more. Breakfast\, lunch and snacks prepared by the club will be available through the day. One free sausage biscuit or one free hot dog for each military veteran. For more info or booth rental\, call 828-557-8335.
X-ALT-DESC;FMTTYPE=text/html:The Peachtree Community Club invites everyone to their Annual Holiday Craft Show on Saturday\, November 12\, (10 am-3 pm) at Peachtree Community Center\, located just off Greenlawn Cemetery Road at 125 Memory Lane\, Murphy\, NC. Local artists will greet you with hand-crafted creations including stained glass art\, unique birdhouses\, baskets\, wreaths\, rustic furniture\, fiber arts\, natural soap &amp\; candles\, wood accessories &amp\; carvings\, jewelry\, Christmas ornaments and stockings and more. Breakfast\, lunch and snacks prepared by the club will be available through the day. One free sausage biscuit or one free hot dog for each military veteran. For more info or booth rental\, call 828-557-8335.
LOCATION:Peachtree Community Center 125 Memory Lane Murphy NC 28906
UID:e.256.59720
SEQUENCE:3
DTSTAMP:20260420T112620Z
URL:https://members.visitblairsvillega.com/events/details/holiday-craft-show-59720
END:VEVENT

END:VCALENDAR
