BEGIN:VCALENDAR
VERSION:2.0
PRODID:-//ChamberMaster//Event Calendar 2.0//EN
METHOD:PUBLISH
X-PUBLISHED-TTL:P3D
REFRESH-INTERVAL:P3D
CALSCALE:GREGORIAN
BEGIN:VEVENT
DTSTART:20161101T220000Z
DTEND:20161102T000000Z
X-MICROSOFT-CDO-ALLDAYEVENT:FALSE
SUMMARY:Holiday Fundraiser for Joshua Dream Ranch
DESCRIPTION:Help Their Dreams Sparkle!! A Holiday Fundraiser to Benefit Joshua Dream Ranch Featuring Premier Designs Jewelry Join us for an evening of holiday festivities and fellowship. Get a jump start to your holiday shopping with the latest Fall and Holiday styles from Premier Designs Jewelry. 25% of the sales to benefit Joshua Dream Ranch!!
X-ALT-DESC;FMTTYPE=text/html:Help Their Dreams Sparkle!! A Holiday Fundraiser to Benefit Joshua Dream Ranch Featuring Premier Designs Jewelry Join us for an evening of holiday festivities and fellowship. Get a jump start to your holiday shopping with the latest Fall and Holiday styles from Premier Designs Jewelry. 25% of the sales to benefit Joshua Dream Ranch!!
LOCATION:Boondocks Bayou Grill 583 Blue Ridge Street\, Blairsville\, GA
UID:e.256.59662
SEQUENCE:3
DTSTAMP:20260420T112917Z
URL:https://members.visitblairsvillega.com/events/details/holiday-fundraiser-for-joshua-dream-ranch-59662
END:VEVENT

END:VCALENDAR
