BEGIN:VCALENDAR
VERSION:2.0
PRODID:-//ChamberMaster//Event Calendar 2.0//EN
METHOD:PUBLISH
X-PUBLISHED-TTL:P3D
REFRESH-INTERVAL:P3D
CALSCALE:GREGORIAN
BEGIN:VEVENT
DTSTART;VALUE=DATE:20131208
DTEND;VALUE=DATE:20131215
TRANSP:TRANSPARENT
X-MICROSOFT-CDO-ALLDAYEVENT:TRUE
SUMMARY:Holiday in the Mountains Week
DESCRIPTION:This week of classes is the perfect precursor to your time with family and friends later in the month of December. Don't shop for gifts this year   make them! Learn to create spectacular holiday votives in our glass class\, carve a Santa from wood\, or pursue our Christmas Feasting class in the cooking studio. There are 15 classes to choose from\, all of which will get you in the holiday spirit.
X-ALT-DESC;FMTTYPE=text/html:<!--StartFragment-->\n<p class="MsoNormal">\n	This week of classes is the perfect precursor to your time with family and friends later in the month of December. Don&rsquo\;t shop for gifts this year &ndash\; make them! Learn to create spectacular holiday votives in our glass class\, carve a Santa from wood\, or pursue our Christmas Feasting class in the cooking studio. There are 15 classes to choose from\, all of which will get you in the holiday spirit.<o:p></o:p></p>\n<p class="MsoNormal">\n	&nbsp\;</p>\n<!--EndFragment-->
LOCATION:John C. Campbell Folk School
UID:e.256.17289
SEQUENCE:3
DTSTAMP:20260424T194430Z
URL:https://members.visitblairsvillega.com/events/details/holiday-in-the-mountains-week-12-08-2013-17289
END:VEVENT

END:VCALENDAR
