BEGIN:VCALENDAR
VERSION:2.0
PRODID:-//ChamberMaster//Event Calendar 2.0//EN
METHOD:PUBLISH
X-PUBLISHED-TTL:P3D
REFRESH-INTERVAL:P3D
CALSCALE:GREGORIAN
BEGIN:VEVENT
DTSTART:20151128T160000Z
DTEND:20151128T220000Z
X-MICROSOFT-CDO-ALLDAYEVENT:FALSE
SUMMARY:Holiday Open House
DESCRIPTION:Enjoy refreshments\, artwork and good cheer as you enjoy the seasonal beauty at The Art Center. Shop at our Holiday Show while you are here!
X-ALT-DESC;FMTTYPE=text/html:<span style="font-size: 12pt\;"><span style="font-family: adobe caslon pro bold\,serif\;">Enjoy refreshments\, artwork and good cheer as you enjoy the seasonal beauty at The Art Center. Shop at our Holiday Show while you are here!&nbsp\; </span></span><br />\n&nbsp\;
LOCATION:The Art Center (Blue Ridge Mountains Arts Association) 420 West Main Street Blue Ridge\, GA 30513
UID:e.256.38161
SEQUENCE:3
DTSTAMP:20260423T085209Z
URL:https://members.visitblairsvillega.com/events/details/holiday-open-house-11-28-2015-38161
END:VEVENT

END:VCALENDAR
