BEGIN:VCALENDAR
VERSION:2.0
PRODID:-//ChamberMaster//Event Calendar 2.0//EN
METHOD:PUBLISH
X-PUBLISHED-TTL:P3D
REFRESH-INTERVAL:P3D
CALSCALE:GREGORIAN
BEGIN:VEVENT
DTSTART:20151114T150000Z
DTEND:20151114T190000Z
X-MICROSOFT-CDO-ALLDAYEVENT:FALSE
SUMMARY:Holiday Open House - 20 - 50% discounts
DESCRIPTION:Skip the hustle bustle and long lines and come on over for a quiet afternoon of holiday shopping! Let me help you check off your Christmas list! All gifts are 100% satisfaction guaranteed gifts for everyone on your list husbands\, teenagers\, family\, friends\, coworkers\, teachers and more! Lots of items on sale you don't want to miss my once-a-year clearance table! Saturday at my Mary Kay studio on Ford Road take the old fluid highway to Bunker Hill Road and follow the signs and balloons
X-ALT-DESC;FMTTYPE=text/html:Skip the hustle bustle and long lines and come on over for a quiet afternoon of holiday shopping! Let me help you check off your Christmas list! All gifts are 100% satisfaction guaranteed gifts for everyone on your list husbands\, teenagers\, family\, friends\, coworkers\, teachers and more! Lots of items on sale you don&#39\;t want to miss my once-a-year clearance table! Saturday at my Mary Kay studio on Ford Road take the old fluid highway to Bunker Hill Road and follow the signs and balloons
LOCATION:214 ford rd blairsville\, ga 30512
UID:e.256.45018
SEQUENCE:3
DTSTAMP:20260423T085521Z
URL:https://members.visitblairsvillega.com/events/details/holiday-open-house-20-50-discounts-11-14-2015-45018
END:VEVENT

END:VCALENDAR
