BEGIN:VCALENDAR
VERSION:2.0
PRODID:-//ChamberMaster//Event Calendar 2.0//EN
METHOD:PUBLISH
X-PUBLISHED-TTL:P3D
REFRESH-INTERVAL:P3D
CALSCALE:GREGORIAN
BEGIN:VEVENT
DTSTART:20161210T170000Z
DTEND:20161210T220000Z
X-MICROSOFT-CDO-ALLDAYEVENT:FALSE
SUMMARY:Holiday Open House and Ugly Sweater Party at Hightower Creek Vineyards
DESCRIPTION:Come show off your ugliest Christmas sweater and enjoy 15% off holiday merchandise! We'll have mulled wine\, music\, and prizes for the UGLIEST sweaters!
X-ALT-DESC;FMTTYPE=text/html:<span style="color:rgb(112\, 112\, 112)\; font-family:open sans\; font-size:14px">Come show off your ugliest Christmas sweater and enjoy 15% off holiday merchandise! We&rsquo\;ll have mulled wine\, music\, and prizes for the UGLIEST sweaters!</span>
LOCATION:7150 Canaan Drive Hiawassee\, GA 30546
UID:e.256.60625
SEQUENCE:3
DTSTAMP:20260420T094830Z
URL:https://members.visitblairsvillega.com/events/details/holiday-open-house-and-ugly-sweater-party-at-hightower-creek-vineyards-60625
END:VEVENT

END:VCALENDAR
