BEGIN:VCALENDAR
VERSION:2.0
PRODID:-//ChamberMaster//Event Calendar 2.0//EN
METHOD:PUBLISH
X-PUBLISHED-TTL:P3D
REFRESH-INTERVAL:P3D
CALSCALE:GREGORIAN
BEGIN:VEVENT
DTSTART:20151205T170000Z
DTEND:20151205T220000Z
X-MICROSOFT-CDO-ALLDAYEVENT:FALSE
SUMMARY:Holiday Open House at Hightower Creek Vineyards with music by Raven & Red
DESCRIPTION:Happy Holidays! Join us for a special Christmas celebration on Saturday\, December 5. We'll have Raven & Red playing from 2:00   5:00pm\, our special hot mulled wine to keep you warm\, and a 15% discount on gift items to finish up your Christmas shopping!\n\nCome celebrate the season with Hightower Creek!
X-ALT-DESC;FMTTYPE=text/html:<p>Happy Holidays! Join us for a special Christmas celebration on Saturday\, December 5. We&rsquo\;ll have Raven &amp\; Red playing from 2:00 &ndash\; 5:00pm\, our special hot mulled wine to keep you warm\, and a 15% discount on gift items to finish up your Christmas shopping!</p>\n\n<p>Come celebrate the season with Hightower Creek!</p>\n
LOCATION:7150 Canaan Drive Hiawassee\, GA 30546
UID:e.256.44548
SEQUENCE:3
DTSTAMP:20260421T074822Z
URL:https://members.visitblairsvillega.com/events/details/holiday-open-house-at-hightower-creek-vineyards-with-music-by-raven-red-12-05-2015-44548
END:VEVENT

END:VCALENDAR
