BEGIN:VCALENDAR
VERSION:2.0
PRODID:-//ChamberMaster//Event Calendar 2.0//EN
METHOD:PUBLISH
X-PUBLISHED-TTL:P3D
REFRESH-INTERVAL:P3D
CALSCALE:GREGORIAN
BEGIN:VEVENT
DTSTART:20151205T150000Z
DTEND:20151206T000000Z
X-MICROSOFT-CDO-ALLDAYEVENT:FALSE
SUMMARY:Holiday Open House - Food City
DESCRIPTION:Food City is hosting their Holiday Customer Appreciation Day.  Sample new holiday items (plus your favorites)\, shop open house specials and much much more!!
X-ALT-DESC;FMTTYPE=text/html:Food City is hosting their Holiday Customer Appreciation Day.&nbsp\; Sample new holiday items (plus your favorites)\, shop open house specials and much much more!!
LOCATION:Food City\, Blairsville Georgia
UID:e.256.45152
SEQUENCE:3
DTSTAMP:20260421T074652Z
URL:https://members.visitblairsvillega.com/events/details/holiday-open-house-food-city-12-05-2015-45152
END:VEVENT

END:VCALENDAR
