BEGIN:VCALENDAR
VERSION:2.0
PRODID:-//ChamberMaster//Event Calendar 2.0//EN
METHOD:PUBLISH
X-PUBLISHED-TTL:P3D
REFRESH-INTERVAL:P3D
CALSCALE:GREGORIAN
BEGIN:VEVENT
DTSTART:20170102T150000Z
DTEND:20170102T050000Z
X-MICROSOFT-CDO-ALLDAYEVENT:FALSE
SUMMARY:Holiday Show & Sale
DESCRIPTION:Come shop for that perfect creative and unique holiday gift. We will have hundreds of items for sale\, all made from one of our artists. So whether its jewelry\, pottery\, painting or anything in between\, we have what you need to get your holiday shopping done. Gift Certificates are available. Opening reception will be November 19\, 6-9pm.
X-ALT-DESC;FMTTYPE=text/html:<p><span style="font-family:adobe caslon pro bold\,serif\; font-size:12pt">Come shop for that perfect creative and unique holiday gift. We will have hundreds of items for sale\, all made from one of our artists. So whether its jewelry\, pottery\, painting or anything in between\, we have what you need to get your holiday shopping done. Gift Certificates are available. Opening reception will be November 19\, 6-9pm.</span></p>\n
LOCATION:The Art Center 420 West Main Street Blue Ridge\, GA 30513
UID:e.256.59615
SEQUENCE:3
DTSTAMP:20260420T075214Z
URL:https://members.visitblairsvillega.com/events/details/holiday-show-sale-01-02-2017-59615
END:VEVENT

END:VCALENDAR
