BEGIN:VCALENDAR
VERSION:2.0
PRODID:-//ChamberMaster//Event Calendar 2.0//EN
METHOD:PUBLISH
X-PUBLISHED-TTL:P3D
REFRESH-INTERVAL:P3D
CALSCALE:GREGORIAN
BEGIN:VEVENT
DTSTART:20160108T150000Z
DTEND:20160108T230000Z
X-MICROSOFT-CDO-ALLDAYEVENT:FALSE
SUMMARY:Holiday Show & Sale
DESCRIPTION:Come shop for that perfect holiday gift\, one that is creative and unique.  We will have hundreds of items for sale\, all made from one of our artists.  So whether its jewelry\, pottery\, paintings or anything in between\, we have what you need to get your holiday shopping done. Show open during regular business hours.  \n\nClosed on Mondays. Please contact us for holiday hours also.
X-ALT-DESC;FMTTYPE=text/html:<span style="font-size: 12pt\;"><span style="font-family: adobe caslon pro bold\,serif\;">Come shop for that perfect holiday gift\, one that is creative and unique.&nbsp\; We will have hundreds of items for sale\, all made from one of our artists.&nbsp\; So whether its jewelry\, pottery\, paintings or anything in between\, we have what you need to get your holiday shopping done. Show open during regular business hours.&nbsp\; </span></span><br />\nClosed on Mondays. Please contact us for holiday hours also.<br />\n&nbsp\;
LOCATION:The Art Center (Blue Ridge Mountains Arts Association) 420 West Main Street Blue Ridge\, GA 30513
UID:e.256.39845
SEQUENCE:3
DTSTAMP:20260421T060037Z
URL:https://members.visitblairsvillega.com/events/details/holiday-show-sale-01-08-2016-39845
END:VEVENT

END:VCALENDAR
