BEGIN:VCALENDAR
VERSION:2.0
PRODID:-//ChamberMaster//Event Calendar 2.0//EN
METHOD:PUBLISH
X-PUBLISHED-TTL:P3D
REFRESH-INTERVAL:P3D
CALSCALE:GREGORIAN
BEGIN:VEVENT
DTSTART:20141129T150000Z
DTEND:20141129T230000Z
X-MICROSOFT-CDO-ALLDAYEVENT:FALSE
SUMMARY:Holiday Show & Sale
DESCRIPTION:
X-ALT-DESC;FMTTYPE=text/html:
LOCATION:Blue Ridge Mountains Arts Association 420 West Main Street Blue Ridge\, GA
UID:e.256.27868
SEQUENCE:3
DTSTAMP:20260424T033758Z
URL:https://members.visitblairsvillega.com/events/details/holiday-show-sale-11-29-2014-27868
END:VEVENT

END:VCALENDAR
