BEGIN:VCALENDAR
VERSION:2.0
PRODID:-//ChamberMaster//Event Calendar 2.0//EN
METHOD:PUBLISH
X-PUBLISHED-TTL:P3D
REFRESH-INTERVAL:P3D
CALSCALE:GREGORIAN
BEGIN:VEVENT
DTSTART:20141204T150000Z
DTEND:20141204T230000Z
X-MICROSOFT-CDO-ALLDAYEVENT:FALSE
SUMMARY:Holiday Show & Sale
DESCRIPTION:Come shop for that perfect holiday gift\, one that is creative and unique. We will have hundreds of items for sale\, all made from one of our artists. So whether it's jewelry\, pottery\, paintings or anything in between\, we will have it. Show is open during regular business hours.
X-ALT-DESC;FMTTYPE=text/html:Come shop for that perfect holiday gift\, one that is creative and unique. We will have hundreds of items for sale\, all made from one of our artists. So whether it&rsquo\;s jewelry\, pottery\, paintings or anything in between\, we will have it. Show is open during regular business hours.
LOCATION:Blue Ridge Mountains Arts Association 420 West Main Street Blue Ridge\, GA
UID:e.256.27873
SEQUENCE:3
DTSTAMP:20260424T033655Z
URL:https://members.visitblairsvillega.com/events/details/holiday-show-sale-12-04-2014-27873
END:VEVENT

END:VCALENDAR
