BEGIN:VCALENDAR
VERSION:2.0
PRODID:-//ChamberMaster//Event Calendar 2.0//EN
METHOD:PUBLISH
X-PUBLISHED-TTL:P3D
REFRESH-INTERVAL:P3D
CALSCALE:GREGORIAN
BEGIN:VEVENT
DTSTART:20131216T160000Z
DTEND:20131217T000000Z
X-MICROSOFT-CDO-ALLDAYEVENT:FALSE
SUMMARY:Holiday Stop & Shop
DESCRIPTION:JOIN us this MONDAY & TUESDAY\, December 16th & 17th from 11am - 7pm at the Union County Civic Center! Lots of GREAT options for Christmas gifts! And you are supporting home-based/direct sales businesses! WE APPRECIATE YOU ALL!! There will be refreshments\, shopping and a great time!! Admission is free. Vendors include Celebrating Home\, Pampered Chef\, Origami Owl\, Shabby Chanelles\, Stampin Up\, Premier Jewelry\, Tastefully Simple\, Bottles & Blessings\, Massage\, Soaps & Oils\, Stained Glass and much more. Union County Civic Center (Haralson Memorial Civic Center) is located 165 Wellborn Street\, Blairsville\,GA 30512. For more information\, please contact (770) 789-2044.
X-ALT-DESC;FMTTYPE=text/html:JOIN us this MONDAY &amp\; TUESDAY\, December 16th &amp\; 17th from 11am - 7pm at the Union County Civic Center! Lots of GREAT options for Christmas gifts! And you are supporting home-based/direct sales businesses! WE APPRECIATE YOU ALL!! There will be refreshments\, shopping and a great time!! Admission is free. Vendors include Celebrating Home\, Pampered Chef\, Origami Owl\, Shabby Chanelles\, Stampin Up\, Premier Jewelry\, Tastefully Simple\, Bottles &amp\; Blessings\, Massage\, Soaps &amp\; Oils\, Stained Glass and much more. Union County Civic Center (Haralson Memorial Civic Center) is located 165 Wellborn Street\, Blairsville\,GA 30512. For more information\, please contact (770) 789-2044. 
LOCATION:Union County Civic Center (Haralson Memorial Civic Center) is located 165 Wellborn Street\, Blairsville\,GA 30512.
UID:e.256.20570
SEQUENCE:3
DTSTAMP:20260424T194332Z
URL:https://members.visitblairsvillega.com/events/details/holiday-stop-shop-12-16-2013-20570
END:VEVENT

END:VCALENDAR
