BEGIN:VCALENDAR
VERSION:2.0
PRODID:-//ChamberMaster//Event Calendar 2.0//EN
METHOD:PUBLISH
X-PUBLISHED-TTL:P3D
REFRESH-INTERVAL:P3D
CALSCALE:GREGORIAN
BEGIN:VEVENT
DTSTART:20140920T233000Z
DTEND:20140921T020000Z
X-MICROSOFT-CDO-ALLDAYEVENT:FALSE
SUMMARY:Home by Dark
DESCRIPTION:HOME BY DARK is a songwriters in the round concert event unlike anything you've seen or heard. We feature the best performing songwriters in America accompanied by the best instrumentalists on the planet. You will hear the stories behind the songs and powerful performances as honest and as authentic as they come... from the writers themselves. Some of our guest performers have written songs for Garth Brooks\, Chicago\, Blake Shelton\, Kelly Clarkson\, Sara Evans\, Stevie Nicks\, Kenny Chesney\, Sister Hazel\, Miranda Lambert\, Trisha Yearwood\, and others. Our guest instrumentalists have performed on the David Lettermen Show\, at Carnegie Hall\, the Lincoln Center\, Disney\, and around the world.
X-ALT-DESC;FMTTYPE=text/html:HOME BY DARK is a songwriters in the round concert event unlike anything you&#39\;ve seen or heard. We feature the best performing songwriters in America accompanied by the best instrumentalists on the planet. You will hear the stories behind the songs and powerful performances as honest and as authentic as they come... from the writers themselves. Some of our guest performers have written songs for Garth Brooks\, Chicago\, Blake Shelton\, Kelly Clarkson\, Sara Evans\, Stevie Nicks\, Kenny Chesney\, Sister Hazel\, Miranda Lambert\, Trisha Yearwood\, and others. Our guest instrumentalists have performed on the David Lettermen Show\, at Carnegie Hall\, the Lincoln Center\, Disney\, and around the world.
LOCATION:Smoky Mountain Center for the Performing Arts 1028 Georgia Road Franklin\, NC 28734
UID:e.256.27399
SEQUENCE:3
DTSTAMP:20260424T062023Z
URL:https://members.visitblairsvillega.com/events/details/home-by-dark-09-20-2014-27399
END:VEVENT

END:VCALENDAR
