BEGIN:VCALENDAR
VERSION:2.0
PRODID:-//ChamberMaster//Event Calendar 2.0//EN
METHOD:PUBLISH
X-PUBLISHED-TTL:P3D
REFRESH-INTERVAL:P3D
CALSCALE:GREGORIAN
BEGIN:VEVENT
DTSTART:20150710T140000Z
DTEND:20150710T160000Z
X-MICROSOFT-CDO-ALLDAYEVENT:FALSE
SUMMARY:Home Garden Blueberries
DESCRIPTION:Our speaker\, Dr. Erick Smith\, will discuss appropriate cultivars\, planting and care of blueberries. Dr. Smith is a Fruit Specialist with the University of Georgia. He will enlighten us on the best management practices for blueberries in our back yards. Weather permitting\, seminar attendees will have the opportunity to visit the blueberry trials in the orchard of the Georgia Mountain Research & Education Center. Walking outdoors on hills and uneven surfaces will be required. Dress appropriately for the weather. There is no registration for this seminar\; however\, seating is limited to the first 100 in attendance. This is a popular subject\, so arrive early. Please leave your doggie friends at home.
X-ALT-DESC;FMTTYPE=text/html:Our speaker\, Dr. Erick Smith\, will discuss appropriate cultivars\, planting and care of blueberries. Dr. Smith is a Fruit Specialist with the University of Georgia. He will enlighten us on the best management practices for blueberries in our back yards. Weather permitting\, seminar attendees will have the opportunity to visit the blueberry trials in the orchard of the Georgia Mountain Research &amp\; Education Center. Walking outdoors on hills and uneven surfaces will be required. Dress appropriately for the weather. There is no registration for this seminar\; however\, seating is limited to the first 100 in attendance. This is a popular subject\, so arrive early. Please leave your doggie friends at home.
LOCATION:The Georgia Mountain Research & Education Center\, 3 miles south of the Blairsville Square\, on the east side of Hwy 19/129.
UID:e.256.36907
SEQUENCE:3
DTSTAMP:20260423T151131Z
URL:https://members.visitblairsvillega.com/events/details/home-garden-blueberries-07-10-2015-36907
END:VEVENT

END:VCALENDAR
