BEGIN:VCALENDAR
VERSION:2.0
PRODID:-//ChamberMaster//Event Calendar 2.0//EN
METHOD:PUBLISH
X-PUBLISHED-TTL:P3D
REFRESH-INTERVAL:P3D
CALSCALE:GREGORIAN
BEGIN:VEVENT
DTSTART:20161119T140000Z
DTEND:20161119T220000Z
X-MICROSOFT-CDO-ALLDAYEVENT:FALSE
SUMMARY:Hometown Holiday Shopping
DESCRIPTION:GET COUPONS * SHOP EARLY * SHOP LOCAL\n\n1. Go to www.visitblairsvillega.com\, click on "request a Newsletter" and subscribe to Buy Local Coupons & Events.  We will email the coupons to you prior to the Buy Local Holiday Shopping Event Weekend.\n\n2. Call 706-745-5789\n\n3. Visit the Chamber offices to pick up your coupons!
X-ALT-DESC;FMTTYPE=text/html:GET COUPONS * SHOP EARLY * SHOP LOCAL<br />\n1. Go to www.visitblairsvillega.com\, click on &quot\;request a Newsletter&quot\; and subscribe to Buy Local Coupons &amp\; Events. &nbsp\;We will email the coupons to you prior to the Buy Local Holiday Shopping Event Weekend.<br />\n2. Call 706-745-5789<br />\n3. Visit the Chamber offices to pick up your coupons!
LOCATION:Visit all the participating merchants!!!!!
UID:e.256.59444
SEQUENCE:3
DTSTAMP:20260420T112924Z
URL:https://members.visitblairsvillega.com/events/details/hometown-holiday-shopping-11-19-2016-59444
END:VEVENT

END:VCALENDAR
