BEGIN:VCALENDAR
VERSION:2.0
PRODID:-//ChamberMaster//Event Calendar 2.0//EN
METHOD:PUBLISH
X-PUBLISHED-TTL:P3D
REFRESH-INTERVAL:P3D
CALSCALE:GREGORIAN
BEGIN:VEVENT
DTSTART:20170311T163000Z
DTEND:20170311T180000Z
X-MICROSOFT-CDO-ALLDAYEVENT:FALSE
SUMMARY:Hope House Sixth annual Super Chef Showdown
DESCRIPTION:Please join Hope House for our Sixth Annual Super Chef Showdown at the First Methodist MAC from 11:30am to 1:00pm on March 11th. Come taste over 15 Community Leader "Chefs" dishes. Always a great event.
X-ALT-DESC;FMTTYPE=text/html:Please join Hope House for our Sixth Annual Super Chef Showdown at the First Methodist MAC from 11:30am to 1:00pm on March 11th. Come taste over 15 Community Leader &quot\;Chefs&quot\; dishes. Always a great event.
LOCATION:First United Methodist Church MAC
UID:e.256.63588
SEQUENCE:3
DTSTAMP:20260420T042533Z
URL:https://members.visitblairsvillega.com/events/details/hope-house-sixth-annual-super-chef-showdown-63588
END:VEVENT

END:VCALENDAR
