BEGIN:VCALENDAR
VERSION:2.0
PRODID:-//ChamberMaster//Event Calendar 2.0//EN
METHOD:PUBLISH
X-PUBLISHED-TTL:P3D
REFRESH-INTERVAL:P3D
CALSCALE:GREGORIAN
BEGIN:VEVENT
DTSTART:20140308T163000Z
DTEND:20140308T183000Z
X-MICROSOFT-CDO-ALLDAYEVENT:FALSE
SUMMARY:Hope House Super Chef Showdown
DESCRIPTION:Come taste pheasant under glass\, banana pudding\, brunswick stew\, pasta e fagioli soup\, mini crab cakes\, and much much more. Vote for your favorite pics. Proceeds benefit The Hope House\, a non-profit organization benefiting Blairsville-Union County.\n\n\n\nHope House Super Chef Showdown\n\nSaturday\, March 8th \n\n11:30 till 1:30 pm \n\nFirst United Methodist in the MAC Building\n\nAdmission is $10 ages 10 and older.
X-ALT-DESC;FMTTYPE=text/html:Come taste pheasant under glass\, banana pudding\, brunswick stew\, pasta e&nbsp\;fagioli soup\, mini crab cakes\, and much much more. Vote for your favorite pics.&nbsp\;Proceeds benefit The Hope House\, a non-profit organization benefiting&nbsp\;Blairsville-Union County.<br />\n<br />\nHope House Super Chef Showdown<br />\nSaturday\, March 8th&nbsp\;<br />\n11:30 till 1:30 pm&nbsp\;<br />\nFirst United Methodist in the&nbsp\;MAC Building<br />\nAdmission is $10 ages 10 and older.
LOCATION:MAC at First United Methodist 938 Hwy 515 Blairsville\, GA
UID:e.256.22074
SEQUENCE:3
DTSTAMP:20260424T152005Z
URL:https://members.visitblairsvillega.com/events/details/hope-house-super-chef-showdown-03-08-2014-22074
END:VEVENT

END:VCALENDAR
